BEGIN:VCALENDAR
VERSION:2.0
PRODID:icalendar-ruby
CALSCALE:GREGORIAN
METHOD:PUBLISH
BEGIN:VEVENT
DTSTAMP:20260425T135621Z
UID:107-484284@journeychurchtacoma.org
DTSTART:20260517T170000Z
DTEND:20260517T183000Z
CLASS:PUBLIC
CREATED:20260423T124841
DESCRIPTION:
LAST-MODIFIED:20260423T124841
LOCATION:
SUMMARY:Vision Alaska
URL;VALUE=URI:https://www.journeychurchtacoma.org/events/vision-alaska/2026
 -05-17
ATTACH;FILENAME=Vision-Alaska-NEW-DATE-May-17-1.jpg;FMTTYPE=image/jpeg:http
 s://dq5pwpg1q8ru0.cloudfront.net/2026/04/23/19/48/40/455e232f-1483-4ad9-9d
 17-7135f090a73e/Vision-Alaska-NEW-DATE-May-17-1.jpg
END:VEVENT
END:VCALENDAR
